Package: TPP2D Version: 1.14.0 Command: chmod a+r TPP2D -R && F:\biocbuild\bbs-3.16-bioc\R\bin\R.exe CMD build --keep-empty-dirs --no-resave-data TPP2D StartedAt: 2023-04-10 22:07:23 -0400 (Mon, 10 Apr 2023) EndedAt: 2023-04-10 22:08:07 -0400 (Mon, 10 Apr 2023) EllapsedTime: 44.0 seconds RetCode: 0 Status: OK PackageFile: TPP2D_1.14.0.tar.gz PackageFileSize: 2.135 MiB