Package: TPP2D Version: 1.14.0 Command: /Library/Frameworks/R.framework/Resources/bin/R CMD build --keep-empty-dirs --no-resave-data TPP2D StartedAt: 2023-04-10 18:17:40 -0400 (Mon, 10 Apr 2023) EndedAt: 2023-04-10 18:18:09 -0400 (Mon, 10 Apr 2023) EllapsedTime: 29.3 seconds RetCode: 0 Status: OK PackageFile: TPP2D_1.14.0.tar.gz PackageFileSize: 2.253 MiB