Package: TPP2D Version: 1.14.0 Command: rm -rf TPP2D.buildbin-libdir && mkdir TPP2D.buildbin-libdir && /Users/biocbuild/BBS/utils/build-universal.sh TPP2D_1.14.0.tar.gz /Library/Frameworks/R.framework/Resources/bin/R TPP2D.buildbin-libdir StartedAt: 2023-04-11 00:09:12 -0400 (Tue, 11 Apr 2023) EndedAt: 2023-04-11 00:09:22 -0400 (Tue, 11 Apr 2023) EllapsedTime: 10.3 seconds RetCode: 0 Status: OK PackageFile: TPP2D_1.14.0.tgz PackageFileSize: 1.833 MiB