Package: TPP2D Version: 1.13.2 Command: /Library/Frameworks/R.framework/Resources/bin/R CMD INSTALL TPP2D StartedAt: 2022-07-10 18:10:39 -0400 (Sun, 10 Jul 2022) EndedAt: 2022-07-10 18:10:52 -0400 (Sun, 10 Jul 2022) EllapsedTime: 13.4 seconds RetCode: 0 Status: OK