Package: TFHAZ Version: 1.20.0 Command: /home/biocbuild/bbs-3.16-bioc/R/bin/R CMD check --install=check:TFHAZ.install-out.txt --library=/home/biocbuild/bbs-3.16-bioc/R/site-library --timings TFHAZ_1.20.0.tar.gz StartedAt: 2023-04-11 00:31:44 -0400 (Tue, 11 Apr 2023) EndedAt: 2023-04-11 00:36:46 -0400 (Tue, 11 Apr 2023) EllapsedTime: 301.4 seconds RetCode: 0 Status: OK CheckDir: TFHAZ.Rcheck Warnings: 0