Package: Summix Version: 2.4.0 Command: chmod a+r Summix -R && F:\biocbuild\bbs-3.16-bioc\R\bin\R.exe CMD build --keep-empty-dirs --no-resave-data Summix StartedAt: 2023-04-10 21:58:39 -0400 (Mon, 10 Apr 2023) EndedAt: 2023-04-10 21:58:45 -0400 (Mon, 10 Apr 2023) EllapsedTime: 6.4 seconds RetCode: 0 Status: OK PackageFile: Summix_2.4.0.tar.gz PackageFileSize: 428.4 KiB