Package: Summix Version: 2.4.0 Command: rm -rf Summix.buildbin-libdir && mkdir Summix.buildbin-libdir && F:\biocbuild\bbs-3.16-bioc\R\bin\R.exe CMD INSTALL --build --library=Summix.buildbin-libdir Summix_2.4.0.tar.gz StartedAt: 2023-04-11 08:52:28 -0400 (Tue, 11 Apr 2023) EndedAt: 2023-04-11 08:52:39 -0400 (Tue, 11 Apr 2023) EllapsedTime: 10.5 seconds RetCode: 0 Status: OK PackageFile: Summix_2.4.0.zip PackageFileSize: 446.8 KiB