Package: Summix Version: 2.4.0 Command: rm -rf Summix.buildbin-libdir && mkdir Summix.buildbin-libdir && /Users/biocbuild/BBS/utils/build-universal.sh Summix_2.4.0.tar.gz /Library/Frameworks/R.framework/Resources/bin/R Summix.buildbin-libdir StartedAt: 2023-04-11 00:07:51 -0400 (Tue, 11 Apr 2023) EndedAt: 2023-04-11 00:07:54 -0400 (Tue, 11 Apr 2023) EllapsedTime: 3.4 seconds RetCode: 0 Status: OK PackageFile: Summix_2.4.0.tgz PackageFileSize: 442.2 KiB