Package: SubCellBarCode Version: 1.13.0 Command: rm -rf SubCellBarCode.buildbin-libdir && mkdir SubCellBarCode.buildbin-libdir && /Users/biocbuild/BBS/utils/build-universal.sh SubCellBarCode_1.13.0.tar.gz /Library/Frameworks/R.framework/Resources/bin/R SubCellBarCode.buildbin-libdir StartedAt: 2022-07-07 09:18:16 -0400 (Thu, 07 Jul 2022) EndedAt: 2022-07-07 09:19:04 -0400 (Thu, 07 Jul 2022) EllapsedTime: 48.1 seconds RetCode: 0 Status: OK PackageFile: SubCellBarCode_1.13.0.tgz PackageFileSize: 2.581 MiB