Package: StarBioTrek Version: 1.24.0 Command: /Library/Frameworks/R.framework/Resources/bin/R CMD check --install=check:StarBioTrek.install-out.txt --library=/Library/Frameworks/R.framework/Resources/library --no-vignettes --timings StarBioTrek_1.24.0.tar.gz StartedAt: 2023-04-10 22:56:58 -0400 (Mon, 10 Apr 2023) EndedAt: 2023-04-10 22:59:15 -0400 (Mon, 10 Apr 2023) EllapsedTime: 137.2 seconds RetCode: 0 Status: WARNINGS CheckDir: StarBioTrek.Rcheck Warnings: 2