Package: SplicingGraphs Version: 1.38.0 Command: chmod a+r SplicingGraphs -R && F:\biocbuild\bbs-3.16-bioc\R\bin\R.exe CMD build --keep-empty-dirs --no-resave-data SplicingGraphs StartedAt: 2023-04-10 21:50:29 -0400 (Mon, 10 Apr 2023) EndedAt: 2023-04-10 21:53:56 -0400 (Mon, 10 Apr 2023) EllapsedTime: 207.4 seconds RetCode: 0 Status: OK PackageFile: SplicingGraphs_1.38.0.tar.gz PackageFileSize: 45.84 MiB