Package: SplicingGraphs Version: 1.38.0 Command: rm -rf SplicingGraphs.buildbin-libdir && mkdir SplicingGraphs.buildbin-libdir && F:\biocbuild\bbs-3.16-bioc\R\bin\R.exe CMD INSTALL --build --library=SplicingGraphs.buildbin-libdir SplicingGraphs_1.38.0.tar.gz StartedAt: 2023-04-11 08:50:51 -0400 (Tue, 11 Apr 2023) EndedAt: 2023-04-11 08:51:51 -0400 (Tue, 11 Apr 2023) EllapsedTime: 60.4 seconds RetCode: 0 Status: OK PackageFile: SplicingGraphs_1.38.0.zip PackageFileSize: 4.588 MiB