Package: SplicingGraphs Version: 1.38.0 Command: /home/biocbuild/bbs-3.16-bioc/R/bin/R CMD check --install=check:SplicingGraphs.install-out.txt --library=/home/biocbuild/bbs-3.16-bioc/R/site-library --timings SplicingGraphs_1.38.0.tar.gz StartedAt: 2023-04-11 00:16:29 -0400 (Tue, 11 Apr 2023) EndedAt: 2023-04-11 00:26:02 -0400 (Tue, 11 Apr 2023) EllapsedTime: 573.5 seconds RetCode: 1 Status: ERROR CheckDir: SplicingGraphs.Rcheck Warnings: NA