Package: SplicingGraphs Version: 1.38.0 Command: /Library/Frameworks/R.framework/Resources/bin/R CMD INSTALL SplicingGraphs StartedAt: 2023-04-10 15:35:34 -0400 (Mon, 10 Apr 2023) EndedAt: 2023-04-10 15:36:24 -0400 (Mon, 10 Apr 2023) EllapsedTime: 50.0 seconds RetCode: 0 Status: OK