Package: SplicingGraphs Version: 1.38.0 Command: /Library/Frameworks/R.framework/Resources/bin/R CMD build --keep-empty-dirs --no-resave-data SplicingGraphs StartedAt: 2023-04-10 18:09:19 -0400 (Mon, 10 Apr 2023) EndedAt: 2023-04-10 18:11:33 -0400 (Mon, 10 Apr 2023) EllapsedTime: 134.2 seconds RetCode: 0 Status: OK PackageFile: SplicingGraphs_1.38.0.tar.gz PackageFileSize: 46.1 MiB