Package: SplicingGraphs Version: 1.38.0 Command: rm -rf SplicingGraphs.buildbin-libdir && mkdir SplicingGraphs.buildbin-libdir && /Users/biocbuild/BBS/utils/build-universal.sh SplicingGraphs_1.38.0.tar.gz /Library/Frameworks/R.framework/Resources/bin/R SplicingGraphs.buildbin-libdir StartedAt: 2023-04-11 00:07:02 -0400 (Tue, 11 Apr 2023) EndedAt: 2023-04-11 00:07:56 -0400 (Tue, 11 Apr 2023) EllapsedTime: 54.4 seconds RetCode: 0 Status: OK PackageFile: SplicingGraphs_1.38.0.tgz PackageFileSize: 4.848 MiB