Package: SpidermiR Version: 1.28.0 Command: F:\biocbuild\bbs-3.16-bioc\R\bin\R.exe CMD INSTALL SpidermiR StartedAt: 2023-04-10 16:06:55 -0400 (Mon, 10 Apr 2023) EndedAt: 2023-04-10 16:07:15 -0400 (Mon, 10 Apr 2023) EllapsedTime: 19.3 seconds RetCode: 0 Status: OK