Package: SpidermiR Version: 1.28.0 Command: chmod a+r SpidermiR -R && F:\biocbuild\bbs-3.16-bioc\R\bin\R.exe CMD build --keep-empty-dirs --no-resave-data SpidermiR StartedAt: 2023-04-10 21:50:03 -0400 (Mon, 10 Apr 2023) EndedAt: 2023-04-10 21:50:06 -0400 (Mon, 10 Apr 2023) EllapsedTime: 2.7 seconds RetCode: 0 Status: OK PackageFile: SpidermiR_1.28.0.tar.gz PackageFileSize: 8.446 KiB