Package: Spectra Version: 1.7.1 Command: rm -rf Spectra.buildbin-libdir && mkdir Spectra.buildbin-libdir && /Users/biocbuild/BBS/utils/build-universal.sh Spectra_1.7.1.tar.gz /Library/Frameworks/R.framework/Resources/bin/R Spectra.buildbin-libdir StartedAt: 2022-07-07 09:15:42 -0400 (Thu, 07 Jul 2022) EndedAt: 2022-07-07 09:16:08 -0400 (Thu, 07 Jul 2022) EllapsedTime: 26.5 seconds RetCode: 0 Status: OK PackageFile: Spectra_1.7.1.tgz PackageFileSize: 1.205 MiB