Package: SeqArray Version: 1.37.2 Command: /Library/Frameworks/R.framework/Resources/bin/R CMD INSTALL SeqArray StartedAt: 2022-07-10 15:27:44 -0400 (Sun, 10 Jul 2022) EndedAt: 2022-07-10 15:28:56 -0400 (Sun, 10 Jul 2022) EllapsedTime: 72.0 seconds RetCode: 0 Status: OK