Package: SamSPECTRAL Version: 1.51.0 Command: rm -rf SamSPECTRAL.buildbin-libdir && mkdir SamSPECTRAL.buildbin-libdir && /Users/biocbuild/BBS/utils/build-universal.sh SamSPECTRAL_1.51.0.tar.gz /Library/Frameworks/R.framework/Resources/bin/R SamSPECTRAL.buildbin-libdir StartedAt: 2022-07-07 09:02:36 -0400 (Thu, 07 Jul 2022) EndedAt: 2022-07-07 09:02:46 -0400 (Thu, 07 Jul 2022) EllapsedTime: 9.7 seconds RetCode: 1 Status: ERROR PackageFile: None PackageFileSize: NA