Package: SQUADD Version: 1.48.0 Command: chmod a+r SQUADD -R && F:\biocbuild\bbs-3.16-bioc\R\bin\R.exe CMD build --keep-empty-dirs --no-resave-data SQUADD StartedAt: 2023-04-10 21:53:50 -0400 (Mon, 10 Apr 2023) EndedAt: 2023-04-10 21:54:08 -0400 (Mon, 10 Apr 2023) EllapsedTime: 17.5 seconds RetCode: 0 Status: OK PackageFile: SQUADD_1.48.0.tar.gz PackageFileSize: 683.1 KiB