Package: SPEM Version: 1.38.0 Command: chmod a+r SPEM -R && F:\biocbuild\bbs-3.16-bioc\R\bin\R.exe CMD build --keep-empty-dirs --no-resave-data SPEM StartedAt: 2023-04-10 21:49:39 -0400 (Mon, 10 Apr 2023) EndedAt: 2023-04-10 21:49:54 -0400 (Mon, 10 Apr 2023) EllapsedTime: 15.0 seconds RetCode: 0 Status: OK PackageFile: SPEM_1.38.0.tar.gz PackageFileSize: 470 KiB