Package: SPEM Version: 1.38.0 Command: /Library/Frameworks/R.framework/Resources/bin/R CMD check --install=check:SPEM.install-out.txt --library=/Library/Frameworks/R.framework/Resources/library --no-vignettes --timings SPEM_1.38.0.tar.gz StartedAt: 2023-04-10 22:51:06 -0400 (Mon, 10 Apr 2023) EndedAt: 2023-04-10 22:51:47 -0400 (Mon, 10 Apr 2023) EllapsedTime: 40.7 seconds RetCode: 0 Status: OK CheckDir: SPEM.Rcheck Warnings: 0