Package: SPEM Version: 1.38.0 Command: rm -rf SPEM.buildbin-libdir && mkdir SPEM.buildbin-libdir && /Users/biocbuild/BBS/utils/build-universal.sh SPEM_1.38.0.tar.gz /Library/Frameworks/R.framework/Resources/bin/R SPEM.buildbin-libdir StartedAt: 2023-04-11 00:06:47 -0400 (Tue, 11 Apr 2023) EndedAt: 2023-04-11 00:06:54 -0400 (Tue, 11 Apr 2023) EllapsedTime: 6.8 seconds RetCode: 0 Status: OK PackageFile: SPEM_1.38.0.tgz PackageFileSize: 498.1 KiB