Package: SPEM Version: 1.37.0 Command: rm -rf SPEM.buildbin-libdir && mkdir SPEM.buildbin-libdir && /Users/biocbuild/BBS/utils/build-universal.sh SPEM_1.37.0.tar.gz /Library/Frameworks/R.framework/Resources/bin/R SPEM.buildbin-libdir StartedAt: 2022-07-07 09:15:47 -0400 (Thu, 07 Jul 2022) EndedAt: 2022-07-07 09:15:56 -0400 (Thu, 07 Jul 2022) EllapsedTime: 8.7 seconds RetCode: 0 Status: OK PackageFile: SPEM_1.37.0.tgz PackageFileSize: 498 KiB