Package: SEtools Version: 1.12.0 Command: rm -rf SEtools.buildbin-libdir && mkdir SEtools.buildbin-libdir && F:\biocbuild\bbs-3.16-bioc\R\bin\R.exe CMD INSTALL --build --library=SEtools.buildbin-libdir SEtools_1.12.0.tar.gz StartedAt: 2023-04-11 08:47:00 -0400 (Tue, 11 Apr 2023) EndedAt: 2023-04-11 08:47:44 -0400 (Tue, 11 Apr 2023) EllapsedTime: 44.0 seconds RetCode: 0 Status: OK PackageFile: SEtools_1.12.0.zip PackageFileSize: 349.2 KiB