Package: SCBN Version: 1.16.0 Command: chmod a+r SCBN -R && F:\biocbuild\bbs-3.16-bioc\R\bin\R.exe CMD build --keep-empty-dirs --no-resave-data SCBN StartedAt: 2023-04-10 21:20:56 -0400 (Mon, 10 Apr 2023) EndedAt: 2023-04-10 21:21:56 -0400 (Mon, 10 Apr 2023) EllapsedTime: 60.3 seconds RetCode: 0 Status: OK PackageFile: SCBN_1.16.0.tar.gz PackageFileSize: 516 KiB