Package: SCBN Version: 1.15.0 Command: /Library/Frameworks/R.framework/Resources/bin/R CMD build --keep-empty-dirs --no-resave-data SCBN StartedAt: 2022-07-07 04:25:30 -0400 (Thu, 07 Jul 2022) EndedAt: 2022-07-07 04:26:26 -0400 (Thu, 07 Jul 2022) EllapsedTime: 56.4 seconds RetCode: 0 Status: OK PackageFile: SCBN_1.15.0.tar.gz PackageFileSize: 516.3 KiB