Package: SCATE Version: 1.8.0 Command: chmod a+r SCATE -R && F:\biocbuild\bbs-3.16-bioc\R\bin\R.exe CMD build --keep-empty-dirs --no-resave-data SCATE StartedAt: 2023-04-10 21:20:08 -0400 (Mon, 10 Apr 2023) EndedAt: 2023-04-10 21:41:39 -0400 (Mon, 10 Apr 2023) EllapsedTime: 1291.4 seconds RetCode: 0 Status: OK PackageFile: SCATE_1.8.0.tar.gz PackageFileSize: 491.8 KiB