Package: SCATE Version: 1.8.0 Command: rm -rf SCATE.buildbin-libdir && mkdir SCATE.buildbin-libdir && F:\biocbuild\bbs-3.16-bioc\R\bin\R.exe CMD INSTALL --build --library=SCATE.buildbin-libdir SCATE_1.8.0.tar.gz StartedAt: 2023-04-11 08:44:01 -0400 (Tue, 11 Apr 2023) EndedAt: 2023-04-11 08:44:50 -0400 (Tue, 11 Apr 2023) EllapsedTime: 49.2 seconds RetCode: 0 Status: OK PackageFile: SCATE_1.8.0.zip PackageFileSize: 312.6 KiB