Package: SCATE Version: 1.8.0 Command: /home/biocbuild/bbs-3.16-bioc/R/bin/R CMD INSTALL SCATE StartedAt: 2023-04-10 15:29:42 -0400 (Mon, 10 Apr 2023) EndedAt: 2023-04-10 15:30:31 -0400 (Mon, 10 Apr 2023) EllapsedTime: 49.1 seconds RetCode: 0 Status: OK