Package: SCATE Version: 1.8.0 Command: /home/biocbuild/bbs-3.16-bioc/R/bin/R CMD check --install=check:SCATE.install-out.txt --library=/home/biocbuild/bbs-3.16-bioc/R/site-library --timings SCATE_1.8.0.tar.gz StartedAt: 2023-04-10 23:42:48 -0400 (Mon, 10 Apr 2023) EndedAt: 2023-04-11 00:07:21 -0400 (Tue, 11 Apr 2023) EllapsedTime: 1473.5 seconds RetCode: 0 Status: OK CheckDir: SCATE.Rcheck Warnings: 0