Package: SCATE Version: 1.8.0 Command: /home/biocbuild/bbs-3.16-bioc/R/bin/R CMD build --keep-empty-dirs --no-resave-data SCATE StartedAt: 2023-04-10 18:05:22 -0400 (Mon, 10 Apr 2023) EndedAt: 2023-04-10 18:21:33 -0400 (Mon, 10 Apr 2023) EllapsedTime: 971.0 seconds RetCode: 0 Status: OK PackageFile: SCATE_1.8.0.tar.gz PackageFileSize: 504.6 KiB