Package: SCATE Version: 1.8.0 Command: /Library/Frameworks/R.framework/Resources/bin/R CMD check --install=check:SCATE.install-out.txt --library=/Library/Frameworks/R.framework/Resources/library --no-vignettes --timings SCATE_1.8.0.tar.gz StartedAt: 2023-04-10 22:27:42 -0400 (Mon, 10 Apr 2023) EndedAt: 2023-04-10 22:35:52 -0400 (Mon, 10 Apr 2023) EllapsedTime: 490.6 seconds RetCode: 0 Status: OK CheckDir: SCATE.Rcheck Warnings: 0