Package: SCAN.UPC Version: 2.40.0 Command: /home/biocbuild/bbs-3.16-bioc/R/bin/R CMD check --install=check:SCAN.UPC.install-out.txt --library=/home/biocbuild/bbs-3.16-bioc/R/site-library --timings SCAN.UPC_2.40.0.tar.gz StartedAt: 2023-04-10 23:42:01 -0400 (Mon, 10 Apr 2023) EndedAt: 2023-04-10 23:45:42 -0400 (Mon, 10 Apr 2023) EllapsedTime: 221.7 seconds RetCode: 0 Status: OK CheckDir: SCAN.UPC.Rcheck Warnings: 0