Package: SCAN.UPC Version: 2.40.0 Command: /Library/Frameworks/R.framework/Resources/bin/R CMD INSTALL SCAN.UPC StartedAt: 2023-04-10 15:24:58 -0400 (Mon, 10 Apr 2023) EndedAt: 2023-04-10 15:25:36 -0400 (Mon, 10 Apr 2023) EllapsedTime: 37.9 seconds RetCode: 0 Status: OK