Package: SCAN.UPC Version: 2.40.0 Command: /Library/Frameworks/R.framework/Resources/bin/R CMD check --install=check:SCAN.UPC.install-out.txt --library=/Library/Frameworks/R.framework/Resources/library --no-vignettes --timings SCAN.UPC_2.40.0.tar.gz StartedAt: 2023-04-10 22:27:09 -0400 (Mon, 10 Apr 2023) EndedAt: 2023-04-10 22:30:10 -0400 (Mon, 10 Apr 2023) EllapsedTime: 181.8 seconds RetCode: 0 Status: OK CheckDir: SCAN.UPC.Rcheck Warnings: 0