Package: SCAN.UPC Version: 2.40.0 Command: /Library/Frameworks/R.framework/Resources/bin/R CMD build --keep-empty-dirs --no-resave-data SCAN.UPC StartedAt: 2023-04-10 17:52:06 -0400 (Mon, 10 Apr 2023) EndedAt: 2023-04-10 17:52:43 -0400 (Mon, 10 Apr 2023) EllapsedTime: 37.4 seconds RetCode: 0 Status: OK PackageFile: SCAN.UPC_2.40.0.tar.gz PackageFileSize: 688.7 KiB