Package: SC3 Version: 1.26.2 Command: rm -rf SC3.buildbin-libdir && mkdir SC3.buildbin-libdir && /Users/biocbuild/BBS/utils/build-universal.sh SC3_1.26.2.tar.gz /Library/Frameworks/R.framework/Resources/bin/R SC3.buildbin-libdir StartedAt: 2023-04-11 00:02:58 -0400 (Tue, 11 Apr 2023) EndedAt: 2023-04-11 00:03:56 -0400 (Tue, 11 Apr 2023) EllapsedTime: 57.9 seconds RetCode: 0 Status: OK PackageFile: SC3_1.26.2.tgz PackageFileSize: 4.426 MiB