Package: SBMLR Version: 1.94.0 Command: _R_CHECK_FORCE_SUGGESTS_=0 /Library/Frameworks/R.framework/Resources/bin/R CMD check --install=check:SBMLR.install-out.txt --library=/Library/Frameworks/R.framework/Resources/library --no-vignettes --timings SBMLR_1.94.0.tar.gz StartedAt: 2023-04-10 22:26:24 -0400 (Mon, 10 Apr 2023) EndedAt: 2023-04-10 22:26:58 -0400 (Mon, 10 Apr 2023) EllapsedTime: 34.1 seconds RetCode: 0 Status: OK CheckDir: SBMLR.Rcheck Warnings: 0