Package: SBMLR Version: 1.94.0 Command: rm -rf SBMLR.buildbin-libdir && mkdir SBMLR.buildbin-libdir && /Users/biocbuild/BBS/utils/build-universal.sh SBMLR_1.94.0.tar.gz /Library/Frameworks/R.framework/Resources/bin/R SBMLR.buildbin-libdir StartedAt: 2023-04-11 00:02:58 -0400 (Tue, 11 Apr 2023) EndedAt: 2023-04-11 00:03:04 -0400 (Tue, 11 Apr 2023) EllapsedTime: 5.7 seconds RetCode: 0 Status: OK PackageFile: SBMLR_1.94.0.tgz PackageFileSize: 313.1 KiB