Package: S4Vectors Version: 0.36.2 Command: rm -rf S4Vectors.buildbin-libdir && mkdir S4Vectors.buildbin-libdir && /Users/biocbuild/BBS/utils/build-universal.sh S4Vectors_0.36.2.tar.gz /Library/Frameworks/R.framework/Resources/bin/R S4Vectors.buildbin-libdir StartedAt: 2023-04-11 00:02:44 -0400 (Tue, 11 Apr 2023) EndedAt: 2023-04-11 00:03:21 -0400 (Tue, 11 Apr 2023) EllapsedTime: 36.3 seconds RetCode: 0 Status: OK PackageFile: S4Vectors_0.36.2.tgz PackageFileSize: 2.16 MiB