Package: S4Vectors Version: 0.35.1 Command: /Library/Frameworks/R.framework/Resources/bin/R CMD INSTALL S4Vectors StartedAt: 2022-07-10 15:21:15 -0400 (Sun, 10 Jul 2022) EndedAt: 2022-07-10 15:21:56 -0400 (Sun, 10 Jul 2022) EllapsedTime: 41.3 seconds RetCode: 0 Status: OK