Package: Rtpca Version: 1.7.1 Command: /Library/Frameworks/R.framework/Resources/bin/R CMD INSTALL Rtpca StartedAt: 2022-07-10 18:05:16 -0400 (Sun, 10 Jul 2022) EndedAt: 2022-07-10 18:05:35 -0400 (Sun, 10 Jul 2022) EllapsedTime: 19.5 seconds RetCode: 0 Status: OK