Package: Ringo Version: 1.62.0 Command: /home/biocbuild/bbs-3.16-bioc/R/bin/R CMD check --install=check:Ringo.install-out.txt --library=/home/biocbuild/bbs-3.16-bioc/R/site-library --timings Ringo_1.62.0.tar.gz StartedAt: 2023-04-10 23:27:26 -0400 (Mon, 10 Apr 2023) EndedAt: 2023-04-10 23:30:15 -0400 (Mon, 10 Apr 2023) EllapsedTime: 169.1 seconds RetCode: 0 Status: OK CheckDir: Ringo.Rcheck Warnings: 0