git_url: https://git.bioconductor.org/packages/RiboDiPA git_branch: RELEASE_3_16 git_last_commit: eeafa07 git_last_commit_date: 2022-11-01 11:23:51 -0400 (Tue, 01 Nov 2022) Package: RiboDiPA Version: 1.6.0 Maintainer: Ji-Ping Wang MaintainerEmail: jzwang at northwestern.edu