Package: ResidualMatrix Version: 1.8.0 Command: /Library/Frameworks/R.framework/Resources/bin/R CMD check --install=check:ResidualMatrix.install-out.txt --library=/Library/Frameworks/R.framework/Resources/library --no-vignettes --timings ResidualMatrix_1.8.0.tar.gz StartedAt: 2023-04-10 22:11:21 -0400 (Mon, 10 Apr 2023) EndedAt: 2023-04-10 22:13:43 -0400 (Mon, 10 Apr 2023) EllapsedTime: 142.5 seconds RetCode: 0 Status: OK CheckDir: ResidualMatrix.Rcheck Warnings: 0