Package: ResidualMatrix Version: 1.8.0 Command: /Library/Frameworks/R.framework/Resources/bin/R CMD build --keep-empty-dirs --no-resave-data ResidualMatrix StartedAt: 2023-04-10 17:42:56 -0400 (Mon, 10 Apr 2023) EndedAt: 2023-04-10 17:43:33 -0400 (Mon, 10 Apr 2023) EllapsedTime: 37.3 seconds RetCode: 0 Status: OK PackageFile: ResidualMatrix_1.8.0.tar.gz PackageFileSize: 317 KiB