Package: ReportingTools Version: 2.38.0 Command: /home/biocbuild/bbs-3.16-bioc/R/bin/R CMD check --install=check:ReportingTools.install-out.txt --library=/home/biocbuild/bbs-3.16-bioc/R/site-library --timings ReportingTools_2.38.0.tar.gz StartedAt: 2023-04-07 23:21:40 -0400 (Fri, 07 Apr 2023) EndedAt: 2023-04-07 23:31:32 -0400 (Fri, 07 Apr 2023) EllapsedTime: 591.3 seconds RetCode: 0 Status: OK CheckDir: ReportingTools.Rcheck Warnings: 0